BEGIN:VCALENDAR
VERSION:2.0
PRODID:-//hacksw/handcal//NONSGML v1.0//EN
BEGIN:VEVENT
SUMMARY:peinture
UID:a4f5ab42-db2f-4bcd-b0e0-4d44f07a2a8c
DTSTART:20260904T073000Z
DTEND:20260904T100000Z
LOCATION:Localisation   
CATEGORIES:Entrainement
STATUS:
URL;VALUE=URI:https://www.acgr22.fr/evenements/2026/09/04/peinture-2441291
END:VEVENT
END:VCALENDAR
