BEGIN:VCALENDAR
VERSION:2.0
PRODID:-//hacksw/handcal//NONSGML v1.0//EN
BEGIN:VEVENT
SUMMARY:Relaxation ( ANNULE)
UID:388c2332-5524-47e4-b374-369c4a8c1fe4
DTSTART:20260610T120000Z
DTEND:20260610T150000Z
LOCATION:Localisation   
CATEGORIES:Entrainement
STATUS:
URL;VALUE=URI:https://www.acgr22.fr/evenements/2026/06/10/relaxation-annule-2439912
END:VEVENT
END:VCALENDAR
