BEGIN:VCALENDAR
VERSION:2.0
PRODID:-//hacksw/handcal//NONSGML v1.0//EN
BEGIN:VEVENT
SUMMARY:Relaxation
UID:5ac9e5c0-47e2-4950-8c2b-c5d49f20d702
DTSTART:20260603T120000Z
DTEND:20260603T150000Z
LOCATION:Localisation   
CATEGORIES:Entrainement
STATUS:
URL;VALUE=URI:https://www.acgr22.fr/evenements/2026/06/03/relaxation-2439910
END:VEVENT
END:VCALENDAR
