BEGIN:VCALENDAR
VERSION:2.0
PRODID:-//hacksw/handcal//NONSGML v1.0//EN
BEGIN:VEVENT
SUMMARY:Rando trail en guirec
UID:42cb662b-b249-459b-a617-38efcdc7b407
DTSTART:20260531T063000Z
DTEND:20260531T100000Z
LOCATION:Localisation   
CATEGORIES:Sportif
STATUS:
URL;VALUE=URI:https://www.acgr22.fr/evenements/2026/05/31/rando-trail-en-guirec-2439488
END:VEVENT
END:VCALENDAR
