BEGIN:VCALENDAR
VERSION:2.0
PRODID:-//hacksw/handcal//NONSGML v1.0//EN
BEGIN:VEVENT
SUMMARY:YOGA ANNULE -VACANCES
UID:25e876e7-c152-470d-ab3a-facb2e874022
DTSTART:20260423T070000Z
DTEND:20260423T083000Z
LOCATION:Localisation   
CATEGORIES:Sportif
STATUS:
URL;VALUE=URI:https://www.acgr22.fr/evenements/2026/04/23/yoga-annule-vacances-2189520
END:VEVENT
END:VCALENDAR
