BEGIN:VCALENDAR
VERSION:2.0
PRODID:-//hacksw/handcal//NONSGML v1.0//EN
BEGIN:VEVENT
SUMMARY:Reunion des meneurs
UID:8ee3a98a-1a97-422e-8bcb-e77341ca1131
DTSTART:20260418T150000Z
DTEND:20260418T170000Z
LOCATION:Localisation   
CATEGORIES:Sportif
STATUS:
URL;VALUE=URI:https://www.acgr22.fr/evenements/2026/04/18/reunion-des-meneurs-2442458
END:VEVENT
END:VCALENDAR
