BEGIN:VCALENDAR
VERSION:2.0
PRODID:-//hacksw/handcal//NONSGML v1.0//EN
BEGIN:VEVENT
SUMMARY:Relaxation ( ANNULE)
UID:ad8563ca-866c-4882-9eff-9b953e8e8ef0
DTSTART:20260311T130000Z
DTEND:20260311T160000Z
LOCATION:Localisation   
CATEGORIES:Entrainement
STATUS:
URL;VALUE=URI:https://www.acgr22.fr/evenements/2026/03/11/relaxation-annule-2328039
END:VEVENT
END:VCALENDAR
